{"text_format":"1","workbook":"xlsx","n_sheets":16,"sheets":["Qingdao（RORO船）","Shanghai","Keelung","Qingdao","HAIPHONG","HOCHIMINH","Hongkong","PUSAN(PANSTAR)","PUSAN(信永)","Bangkok","Singapore","祝日 (2)","CALL SIGN","祝日","Sheet1","Sheet2"],"not_rendered":{"charts":0,"images":2,"macros":1,"external_links":0,"defined_names":11,"comments":0,"pivot_tables":0},"unopened":[],"bounds":{"document_bytes":16777216,"sheet_cells":100000,"rows_first":2000,"rows_last":500,"rows_between":2000,"halvings":0,"cell_chars":16384,"cell_head_chars":4096},"cells_cut":0,"cells_raw":0,"read":"whole","date_system":"1900"}

{"sheet":"Qingdao（RORO船）","index":0,"n_rows":40,"n_cols":10,"rows_kept":40,"cut":false,"hidden":true,"merged":[[15,1,15,2],[2,1,2,9],[4,1,4,9],[5,5,5,8],[8,1,9,2],[8,3,9,3],[8,4,9,4],[9,6,9,8],[10,1,10,2],[11,1,11,2],[12,1,12,2],[13,1,13,2],[14,1,14,2],[37,1,37,4],[38,1,38,9],[39,0,39,9],[16,1,16,2],[28,0,28,9],[30,0,30,9],[31,0,31,9],[34,1,34,3],[34,6,34,8]]}
[]
[]
[]
[]
[]
[null,null,null,null,null,{"$f":"Shanghai!$I$5","v":"2025-04-30"},null,null,null,"更新"]
[null,"※国内消防法該当貨物は取扱不可となります。"]
[]
[null,"VESSEL",null,"VOY","CALL","CFS CUT","ETA",null,"ETD","ETA"]
[null,null,null,null,null,"OSAKA/KOBE","KOBE",null,null,"QINGDAO"]
[null,"DCL QINGDAO",null,"2307W",{"$error":"#N/A"},{"$f":"WORKDAY(I11,-2,'祝日 (2)'!B139:B155)","v":"2023-02-17"},"2023-02-21","-",{"$f":"+G11","v":"2023-02-21"},{"$f":"I11+3","v":"2023-02-24"}]
[null,"DCL QINGDAO",null,"2308W",{"$error":"#N/A"},{"$f":"WORKDAY(I12,-2,'祝日 (2)'!B139:B155)","v":"2023-02-24"},"2023-02-28","-","2023-02-28","2023-03-03"]
[null,"DCL QINGDAO",null,"2309W",{"$error":"#N/A"},{"$f":"WORKDAY(I13,-2,'祝日 (2)'!B139:B155)","v":"2023-03-03"},"2023-03-07","-","2023-03-07","2023-03-10"]
[null,"DCL QINGDAO",null,"2310W",{"$error":"#N/A"},{"$f":"WORKDAY(I14,-2,'祝日 (2)'!B139:B155)","v":"2023-03-10"},"2023-03-14","-","2023-03-14","2023-03-17"]
[null,"DCL QINGDAO",null,"030W",{"$error":"#N/A"},{"$error":"#REF!"},"2022-11-29","-","2022-11-29","2022-12-02"]
[null,"DCL QINGDAO",null,"031W",{"$error":"#N/A"},{"$error":"#REF!"},"2022-12-06","-","2022-12-06","2022-12-09"]
[null,"DCL QINGDAO",null,"032W",{"$error":"#N/A"},{"$error":"#REF!"},"2022-12-13","-","2022-12-13","2022-12-16"]
[]
[]
[]
[]
[]
[]
[null,null,null,null,"1519W"]
[]
[]
[]
[]
["＊＊＊subject to change with or without notice＊＊＊"]
[]
["　　　　　　　　※　Bookingのご依頼は　dclqd@daiunex.co.jp　へ宜しくお願い致します。"]
["　　　　　　　　※　Bookingの最終受付は基本的に　CFS CUT前日の午前中までとさせて頂きます。ご協力の程、宜しくお願い致します。"]
[]
[null,"BOOKING/SCHEDULE のお問合せ先",null,null,null,"本船基本スケジュール"]
[null,"㈱大運　国際物流課 （担当：谷岡）",null,null,null,"CUT","神戸出港",null,null,"青島着"]
[null,"TEL:06-6120-2027",null,null,null,"金曜","火曜","-","火曜","金曜"]
[null,"FAX:06-6120-2029"]
[]
[null,"下記のURLでもスケジュールをご覧頂けます。　どうぞご利用下さい｡"]
["http://www.daiunex.co.jp/importing/sch.html"]

{"sheet":"Shanghai","index":1,"n_rows":37,"n_cols":13,"rows_kept":37,"cut":false,"hidden":false,"merged":[[29,12,29,13],[27,12,27,13],[28,12,28,13],[6,5,7,5],[5,6,5,10],[6,8,6,9],[5,12,5,13],[6,12,6,13],[6,6,6,7],[16,7,16,10],[8,8,8,10],[36,1,36,10],[23,1,23,10],[22,3,22,9],[35,2,35,10],[31,2,31,6],[1,12,1,13],[2,12,2,13],[3,12,3,13],[4,12,4,13],[1,2,1,8],[3,2,3,8],[4,8,4,9],[8,2,8,3],[8,14,8,15],[6,2,7,3],[6,4,7,4],[7,12,7,13],[9,2,9,3],[9,14,9,15],[10,2,10,3],[10,14,10,15],[11,2,11,3],[11,14,11,15],[15,2,15,3],[15,14,15,15],[12,2,12,3],[12,14,12,15],[13,2,13,3],[13,14,13,15],[14,2,14,3],[14,14,14,15]]}
[]
[null,null,null,null,null,null,null,null,null,null,null,null,"CHUN JIN"]
[null,null,null,null,null,null,null,null,null,null,null,null,"MILD TEMPO"]
[null,null,null,null,null,null,null,null,null,null,null,null,"MLD WALTZ"]
[null,null,null,null,null,null,null,null,"2025-04-30",null,"更新",null,"GLORY SHENGDON"]
[null,null,null,null,null,null,"上海着岸バース・・・上海明東コンテナターミナル (SMCT 外高橋 5・6期)",null,null,null,null,null,"JJ NAGOYA"]
[null,null,"VESSEL",null,"VOY","CALL","OSAKA",null,"KOBE",null,"SHANGHAI",null,"GLORY GUANGZHOU"]
[null,null,null,null,null,null,"CUT","ETD","CUT","ETD","ETA",null,"CONTRIVIA"]
[null,null,"MILD TEMPO",null,"2518W",{"$f":"VLOOKUP(C9,'CALL SIGN'!C:D,2,FALSE)","v":"VROE5"},null,null,"SKIP"]
[null,null,"CHUN JIN",null,"2519W",null,"2025-05-07",{"$f":"G10+2","v":"2025-05-09"},{"$f":"G10","v":"2025-05-07"},{"$f":"I10+2","v":"2025-05-09"},{"$f":"J10+2","v":"2025-05-11"},null,"①日付変える"]
[null,null,"MILD TEMPO",null,"2519W",{"$f":"VLOOKUP(C11,'CALL SIGN'!C:D,2,FALSE)","v":"VROE5"},null,null,"2025-05-09",{"$f":"I11+4","v":"2025-05-13"},{"$f":"J11+2","v":"2025-05-15"}]
[null,null,"CHUN JIN",null,"2520W",null,"2025-05-14",{"$f":"G12+2","v":"2025-05-16"},{"$f":"G12","v":"2025-05-14"},{"$f":"I12+2","v":"2025-05-16"},"2025-05-18",null,"①日付変える"]
[null,null,"MILD TEMPO",null,"2520W",{"$f":"VLOOKUP(C13,'CALL SIGN'!C:D,2,FALSE)","v":"VROE5"},null,null,"2025-05-16",{"$f":"I13+4","v":"2025-05-20"},"2025-05-22"]
[null,null,"RESURGENCE",null,"2521W",null,"2025-05-21",{"$f":"G14+2","v":"2025-05-23"},{"$f":"G14","v":"2025-05-21"},{"$f":"H14","v":"2025-05-23"},"2025-05-25",null,"①日付変える"]
[null,null,"GLORY SHANGHAI",null,"2521W",{"$f":"VLOOKUP(C15,'CALL SIGN'!C:D,2,FALSE)","v":"VROS4"},null,null,"2025-05-23",{"$f":"I15+4","v":"2025-05-27"},"2025-05-29"]
[null,null,"QIU JIN",null,"2522W",null,"2025-05-28",{"$f":"G16+2","v":"2025-05-30"},{"$f":"G16","v":"2025-05-28"},{"$f":"H16","v":"2025-05-30"},"2025-06-01",null,"①日付変える"]
[null,null,"*本船名変更"]
[]
[]
[]
[]
[]
[null,null,null,"＊＊＊subject to change with or without notice＊＊＊"]
[null,"　　　　　　　　※　Bookingの最終受付は基本的に　CFS CUT前日の午前中までとさせて頂きます。ご協力の程、宜しくお願い致します。"]
[]
[null,null,null,null,"　上海連絡先事務所　：　株式会社　大運　上海事務所"]
[null,null,null,null,"　上海市延安東路１７５号　　旺角広場１２０９室"]
[null,null,null,null,"      TEL : 86-21-6373-5877",null,null,null,null,null,null,null,"JJ NAGOYA"]
[null,null,null,null,"      FAX : 86-21-6373-2605",null,null,null,null,null,null,null,"QIU JIN"]
[null,null,null,null,null,null,null,null,null,null,null,null,"HARRIER"]
[null,null,"BOOKING/SCHEDULE のお問合せ先",null,null,null,null,"本船基本スケジュール"]
[null,null,"㈱大運　国際物流課　（担当:寺田）",null,null,null,null,"CUT 神戸","CUT 大阪","大阪・神戸出港","上海着"]
[null,null,"TEL:06-6120-2027",null,null,null,null,"金曜","金曜","火曜","木曜"]
[null,null,"FAX:06-6120-2029",null,null,null,null,"水曜","水曜","金曜","日曜"]
[]
[null,null,"下記のURLでもスケジュールをご覧頂けます。他の積み地・仕向け地もお問合せ下さい。"]
[null,"http://www.daiunex.co.jp/importing/sch.html "]

{"sheet":"Keelung","index":2,"n_rows":39,"n_cols":13,"rows_kept":39,"cut":false,"hidden":false,"merged":[[14,1,14,2],[15,1,15,2],[16,1,16,2],[10,5,10,9],[9,1,9,2],[10,1,10,2],[11,1,11,2],[12,1,12,2],[13,1,13,2],[2,1,2,7],[4,1,4,7],[5,7,5,8],[7,1,8,2],[7,3,8,3],[7,7,7,8],[7,4,8,4],[7,5,7,6],[29,10,29,12],[28,0,28,9],[43,6,44,6],[43,9,44,9],[37,1,37,9],[38,0,38,9],[32,1,32,3],[32,5,32,6],[35,1,35,3],[43,8,44,8],[34,1,34,3],[32,7,32,8],[43,7,44,7],[33,1,33,3],[43,5,44,5],[29,0,29,9]]}
[]
[]
[]
[]
[]
[null,null,null,null,null,null,null,{"$f":"+Shanghai!I5","v":"2025-04-30"},null,"更新"]
[]
[null,"VESSEL",null,"VOY","CALL","OSAKA",null,"KOBE",null,"KEELUNG"]
[null,null,null,null,null,"CUT","ETD","CUT","ETD","ETA"]
["*","AS ANNE",null,"005S",{"$f":"VLOOKUP(B10,#REF!,2,FALSE)","v":{"$error":"#REF!"}},"2025-05-01",{"$f":"F10+3","v":"2025-05-04"},{"$f":"F10","v":"2025-05-01"},{"$f":"G10","v":"2025-05-04"},{"$f":"I10+3","v":"2025-05-07"},null,"*","B/L表記： Port of Discharge: TAIPEI,TAIWAN, Place of Delivery: KEELUNG CFS"]
[null,null,null,null,{"$f":"VLOOKUP(B11,#REF!,2,FALSE)","v":{"$error":"#REF!"}},"NO SERVICE",null,null,null,null,null,"#","本船変更"]
[null,"YM INCEPTION",null,"232S",{"$f":"VLOOKUP(B12,#REF!,2,FALSE)","v":{"$error":"#REF!"}},"2025-05-08",{"$f":"F12+3","v":"2025-05-11"},{"$f":"F12","v":"2025-05-08"},{"$f":"G12","v":"2025-05-11"},{"$f":"I12+3","v":"2025-05-14"},null,"*","B/L表記： Port of Discharge: TAIPEI,TAIWAN, Place of Delivery: KEELUNG CFS"]
[null,"TS JOHOR",null,"25012S",{"$f":"VLOOKUP(B13,#REF!,2,FALSE)","v":{"$error":"#REF!"}},"2025-05-13","2025-05-16",{"$f":"F13+1","v":"2025-05-14"},"2025-05-16",{"$f":"I13+4","v":"2025-05-20"},null,"#","本船変更"]
[null,"YM IMMENSE",null,"392S",{"$f":"VLOOKUP(B14,#REF!,2,FALSE)","v":{"$error":"#REF!"}},"2025-05-15",{"$f":"F14+3","v":"2025-05-18"},{"$f":"F14","v":"2025-05-15"},{"$f":"G14","v":"2025-05-18"},{"$f":"I14+3","v":"2025-05-21"},null,"*","B/L表記： Port of Discharge: TAIPEI,TAIWAN, Place of Delivery: KEELUNG CFS"]
[null,"TS SHENZHEN",null,"25011S",{"$f":"VLOOKUP(B15,#REF!,2,FALSE)","v":{"$error":"#REF!"}},"2025-05-20",{"$f":"F15+3","v":"2025-05-23"},{"$f":"F15+1","v":"2025-05-21"},{"$f":"G15","v":"2025-05-23"},{"$f":"I15+4","v":"2025-05-27"},null,"#","本船変更"]
[null,"HORAI BRIDGE",null,"211S",{"$f":"VLOOKUP(B16,#REF!,2,FALSE)","v":{"$error":"#REF!"}},"2025-05-22",{"$f":"F16+3","v":"2025-05-25"},{"$f":"F16","v":"2025-05-22"},{"$f":"G16","v":"2025-05-25"},{"$f":"I16+3","v":"2025-05-28"},null,"*","B/L表記： Port of Discharge: TAIPEI,TAIWAN, Place of Delivery: KEELUNG CFS"]
[null,"TS JOHOR",null,25013,{"$f":"VLOOKUP(B17,#REF!,2,FALSE)","v":{"$error":"#REF!"}},"2025-05-27",{"$f":"F17+3","v":"2025-05-30"},{"$f":"F17+1","v":"2025-05-28"},{"$f":"G17","v":"2025-05-30"},{"$f":"I17+4","v":"2025-06-03"},null,"#","本船変更"]
[null,"※GW前後のスケジュールは、急遽変更となる場合がございますのでご注意下さい。 *本船名変更"]
[]
[]
[]
[]
[]
[null,null,null,null,null,null,"※バンニング場所など変更することがございます。"]
[]
[]
[]
[]
["＊＊＊subject to change with or without notice＊＊＊"]
["　　　　　　　　※　Bookingの最終受付は基本的に　CFS CUT前日の午前中までとさせて頂きます。"]
[]
[null,null,null,null,null,"本船基本スケジュール"]
[null,"BOOKING/SCHEDULE のお問合せ先",null,null,null,"OSAKA",null,"KOBE",null,"KEELUNG"]
[null,"㈱大運　国際物流課　（担当:森本）",null,null,null,"CUT","ETD","CUT","ETD","ETA"]
[null,"TEL:06-6120-2027",null,null,null,"金曜","火曜","金曜","水曜","日曜"]
[null,"FAX:06-6120-2029",null,null,null,"木曜","日曜","木曜","日曜","水曜"]
[]
[null,"下記のURLでもスケジュールをご覧頂けます。他の積み地・仕向け地もお問合せ下さい。"]
["http://www.daiunex.co.jp/importing/sch.html"]

{"sheet":"Qingdao","index":3,"n_rows":31,"n_cols":14,"rows_kept":31,"cut":false,"hidden":false,"merged":[[14,5,14,9],[10,1,10,2],[10,6,10,8],[29,1,29,9],[30,0,30,9],[26,6,26,8],[21,0,21,9],[22,0,22,9],[28,1,28,4],[25,1,25,3],[25,6,25,8],[2,1,2,9],[4,1,4,9],[5,5,5,8],[8,1,9,2],[8,3,9,3],[8,4,9,4],[9,6,9,8],[8,6,8,8],[10,12,10,13],[11,1,11,2],[11,6,11,8],[12,1,12,2],[12,6,12,8],[12,12,12,13]]}
[]
[]
[]
[]
[]
[null,null,null,null,null,"2025-04-30",null,null,null,"更新"]
[null,"※国内消防法該当貨物は取扱不可となります。"]
[]
[null,"VESSEL",null,"VOY","CALL","CFS CUT","ETD",null,null,"ETA"]
[null,null,null,null,null,"KOBE","KOBE",null,null,"QINGDAO",null,null,null,"2245W"]
[null,"SMC COLUMBUS",null,"2519W",{"$f":"VLOOKUP(Qingdao!B11,#REF!,2,FALSE)","v":{"$error":"#REF!"}},"2025-05-09",{"$f":"F11+4","v":"2025-05-13"},null,null,{"$f":"G11+3","v":"2025-05-16"},null,null,"ACACIA LIBRA"]
[null,"A SUWA",null,"2520W",null,"2025-05-16",{"$f":"F12+4","v":"2025-05-20"},null,null,{"$f":"G12+3","v":"2025-05-23"}]
[null,"SMC COLUMBUS",null,"2521W",{"$f":"VLOOKUP(Qingdao!B13,#REF!,2,FALSE)","v":{"$error":"#REF!"}},"2025-05-23",{"$f":"F13+4","v":"2025-05-27"},null,null,{"$f":"G13+3","v":"2025-05-30"},null,null,"ACACIA LIBRA"]
[]
[null,null,null,null,null,"・国内消防法該当貨物は取扱不可となります。"]
[]
[null,null,null,null,"1519W"]
[]
[null,"【お願い】お客様のお荷物もスムーズにお取り扱いする為に、弊社指定CFS倉庫にお送り頂く"]
[null,"お荷物の送り状に「弊社ブッキング番号記載」のご協力をお願い致します。"]
[]
["＊＊＊subject to change with or without notice＊＊＊"]
["　　　　    ※　Bookingの最終受付は基本的にCFS CUT前日の午前中までとさせて頂きます。"]
[]
[null,"BOOKING/SCHEDULE のお問合せ先",null,null,null,"本船基本スケジュール"]
[null,"㈱大運　国際物流課　（担当:皆川）",null,null,null,"CUT","神戸出港",null,null,"青島着"]
[null,"TEL:06-6120-2027",null,null,null,"金曜","火曜",null,null,"金曜"]
[null,"FAX:06-6120-2029"]
[]
[null,"下記URLでもスケジュールをご覧頂けます。他の積み地・仕向け地もお問合せ下さい。"]
["http://www.daiunex.co.jp/importing/sch.html"]

{"sheet":"HAIPHONG","index":4,"n_rows":37,"n_cols":17,"rows_kept":37,"cut":false,"hidden":false,"merged":[[1,1,1,7],[3,1,3,7],[6,1,7,2],[6,3,7,3],[6,4,7,4],[6,5,6,6],[4,5,4,7],[23,1,23,4],[26,1,26,9],[27,0,27,8],[19,0,19,8],[20,0,20,8],[12,1,12,3],[8,1,8,2],[9,1,9,2],[10,1,10,2],[11,1,11,2],[10,5,10,6],[11,5,11,6],[7,5,7,6],[23,5,23,6],[24,5,24,6],[8,5,8,6],[9,5,9,6]]}
[]
[]
[]
[]
[null,null,null,null,null,{"$f":"+Shanghai!I5","v":"2025-04-30"},null,null,"更新"]
[]
[null,"VESSEL",null,"VOY","CALL","CFS CUT",null,"ETD","ETA"]
[null,null,null,null,null,"OSAKA/KOBE",null,"KOBE","HAIPHONG"]
[null,"SMOOTH WIND",null,"003S",{"$f":"VLOOKUP(B9,#REF!,2,FALSE)","v":{"$error":"#REF!"}},"2025-05-15",null,"2025-05-17",{"$f":"H9+8","v":"2025-05-25"}]
["*","AS SUSANNA",null,"018S",{"$f":"VLOOKUP(B10,#REF!,2,FALSE)","v":{"$error":"#REF!"}},"2025-05-22",null,"2025-05-24",{"$f":"H10+8","v":"2025-06-01"}]
["*","SWAN RIVER BRIDGE",null,"111S",{"$f":"VLOOKUP(B11,#REF!,2,FALSE)","v":{"$error":"#REF!"}},"2025-05-29",null,"2025-05-31",{"$f":"H11+8","v":"2025-06-08"}]
[null,"SMOOTH WIND",null,"004S",{"$f":"VLOOKUP(B12,#REF!,2,FALSE)","v":{"$error":"#REF!"}},"2025-06-05",null,{"$f":"F12+2","v":"2025-06-07"},{"$f":"H12+8","v":"2025-06-15"}]
[null,"*本船名変更"]
[]
[]
[null,null,null,null,null,null,null,null,null,null,null,null,null,null,null,null,"搬入先倉庫 (※)"]
[null,null,null,null,null,null,null,null,null,null,null,null,null,null,null,null,"CFS CUT"]
[]
[null,null,null,null,null,null,null,null,null,null,null,null,null,null,null,null,"DAIUN (OSA)"]
["＊＊＊subject to change with or without notice＊＊＊",null,null,null,null,null,null,null,null,null,null,null,null,null,null,null,"2022/07/06 (水)"]
["　　　　　※　Bookingの最終受付は基本的に　CFS CUT前日の午前中までとさせて頂きます。ご協力の程、宜しくお願い致します。"]
[null,null,null,null,null,null,null,null,null,null,null,null,null,null,null,null,"DAIUN (OSA)"]
[null,"BOOKING/SCHEDULE のお問合せ先",null,null,null,"本船基本スケジュール",null,null,null,null,null,null,null,null,null,null,"2022/07/08 (金)"]
[null,"㈱大運　国際物流課　（担当：皆川・三方）",null,null,null,"大阪&神戸CUT",null,"神戸出港","HAIPHONG着"]
[null,"TEL:06-6120-2027",null,null,null,"木曜",null,"土曜","日曜",null,null,null,null,null,null,null,"DAIUN (OSA)"]
[null,"FAX:06-6120-2029"]
[null,"下記のURLでもスケジュールをご覧頂けます。他の積み地・仕向け地もお問合せ下さい。",null,null,null,null,null,null,null,null,null,null,null,null,null,null,"DAIUN (OSA)"]
["http://www.daiunex.co.jp/importing/sch.html",null,null,null,null,null,null,null,null,null,null,null,null,null,null,null,"2022/07/14 (木)"]
[]
[null,null,null,null,null,null,null,null,null,null,null,null,null,null,null,null,"DAIUN (OSA)"]
[null,null,null,null,null,null,null,null,null,null,null,null,null,null,null,null,"2022/07/20 (水)"]
[]
[null,null,null,null,null,null,null,null,null,null,null,null,null,null,null,null,"DAIUN (OSA)"]
[null,null,null,null,null,null,null,null,null,null,null,null,null,null,null,null,"2022/07/22 (金)"]
[]
[null,null,null,null,null,null,null,null,null,null,null,null,null,null,null,null,"DAIUN (OSA)"]
[null,null,null,null,null,null,null,null,null,null,null,null,null,null,null,null,"2022/07/27 (水)"]

{"sheet":"HOCHIMINH","index":5,"n_rows":39,"n_cols":17,"rows_kept":39,"cut":false,"hidden":false,"merged":[[12,1,12,2],[28,1,28,9],[29,0,29,8],[24,1,24,4],[1,1,1,7],[3,1,3,7],[4,6,4,7],[6,1,7,2],[6,3,7,3],[6,4,7,4],[20,0,20,8],[21,0,21,8],[8,1,8,2],[9,1,9,2],[10,1,10,2],[11,1,11,2]]}
[]
[]
[]
[]
[null,null,null,null,null,null,{"$f":"+Shanghai!I5","v":"2025-04-30"},null,"更新"]
[]
[null,"VESSEL",null,"VOY","CALL","CFS CUT","CFS CUT","ETD","ETA"]
[null,null,null,null,null,"OSAKA","KOBE","KOBE","HONGKONG"]
[null,"NYK PAULA",null,"1018S",null,"2025-05-01",{"$f":"F9+1","v":"2025-05-02"},{"$f":"F9+7","v":"2025-05-08"},{"$f":"H9+13","v":"2025-05-21"}]
[null,"ARICA BRIDGE",null,"258S",{"$f":"VLOOKUP(B10,#REF!,2,FALSE)","v":{"$error":"#REF!"}},"2025-05-12","2025-05-13",{"$f":"F10+3","v":"2025-05-15"},{"$f":"H10+13","v":"2025-05-28"}]
[null,"CALLAO BRIDGE",null,"271S",null,"2025-05-19","2025-05-20",{"$f":"G11+2","v":"2025-05-22"},{"$f":"H11+13","v":"2025-06-04"}]
[null,"NYK PAULA",null,"1019S",{"$f":"VLOOKUP(B12,#REF!,2,FALSE)","v":{"$error":"#REF!"}},"2025-05-26",{"$f":"F12+1","v":"2025-05-27"},{"$f":"F12+3","v":"2025-05-29"},{"$f":"H12+13","v":"2025-06-11"}]
[null,"ARICA BRIDGE",null,"259S",null,"2025-06-02","2025-06-03",{"$f":"G13+2","v":"2025-06-05"},{"$f":"H13+13","v":"2025-06-18"}]
[]
[]
[]
[null,null,null,null,null,null,null,null,null,null,null,null,null,null,null,null,"搬入先倉庫 (※)"]
[null,null,null,null,null,null,null,null,null,null,null,null,null,null,null,null,"CFS CUT"]
[]
[null,null,null,null,null,null,null,null,null,null,null,null,null,null,null,null,"DAIUN (OSA)"]
["＊＊＊subject to change with or without notice＊＊＊",null,null,null,null,null,null,null,null,null,null,null,null,null,null,null,"2022/07/06 (水)"]
["　　　　　　　　※　Bookingの最終受付は基本的に　CFS CUT前日の午前中までとさせて頂きます。ご協力の程、宜しくお願い致します。"]
[null,null,null,null,null,null,null,null,null,null,null,null,null,null,null,null,"DAIUN (OSA)"]
[null,"BOOKING/SCHEDULE のお問合せ先",null,null,null,"本船基本スケジュール",null,null,null,null,null,null,null,null,null,null,"2022/07/08 (金)"]
[null,"㈱大運　国際物流課　（担当：皆川・三方）",null,null,null,"大阪CUT","神戸CUT","神戸出港","HAIPHONG着"]
[null,"TEL:06-6120-2027",null,null,null,"月曜","火曜","木曜","水曜",null,null,null,null,null,null,null,"DAIUN (OSA)"]
[null,"FAX:06-6120-2029"]
[]
[null,"下記のURLでもスケジュールをご覧頂けます。他の積み地・仕向け地もお問合せ下さい。",null,null,null,null,null,null,null,null,null,null,null,null,null,null,"DAIUN (OSA)"]
["http://www.daiunex.co.jp/importing/sch.html",null,null,null,null,null,null,null,null,null,null,null,null,null,null,null,"2022/07/14 (木)"]
[]
[null,null,null,null,null,null,null,null,null,null,null,null,null,null,null,null,"DAIUN (OSA)"]
[null,null,null,null,null,null,null,null,null,null,null,null,null,null,null,null,"2022/07/20 (水)"]
[]
[null,null,null,null,null,null,null,null,null,null,null,null,null,null,null,null,"DAIUN (OSA)"]
[null,null,null,null,null,null,null,null,null,null,null,null,null,null,null,null,"2022/07/22 (金)"]
[]
[null,null,null,null,null,null,null,null,null,null,null,null,null,null,null,null,"DAIUN (OSA)"]
[null,null,null,null,null,null,null,null,null,null,null,null,null,null,null,null,"2022/07/27 (水)"]

{"sheet":"Hongkong","index":6,"n_rows":41,"n_cols":17,"rows_kept":41,"cut":false,"hidden":false,"merged":[[1,1,1,7],[3,1,3,7],[4,6,4,7],[6,1,7,2],[6,3,7,3],[6,4,7,4],[12,1,12,2],[13,1,13,2],[8,1,8,2],[9,1,9,2],[10,1,10,2],[11,1,11,2],[31,0,31,8],[22,0,22,8],[23,0,23,8],[26,1,26,4],[30,1,30,9]]}
[]
[]
[]
[]
[null,null,null,null,null,null,{"$f":"+Shanghai!I5","v":"2025-04-30"},null,"更新"]
[]
[null,"VESSEL",null,"VOY","CALL","CFS CUT","CFS CUT","ETD","ETA"]
[null,null,null,null,null,"OSAKA","KOBE","KOBE","HONGKONG"]
[null,"YM INCEPTION",null,"232S",{"$f":"VLOOKUP(B9,#REF!,2,FALSE)","v":{"$error":"#REF!"}},"2025-05-07",{"$f":"F9+1","v":"2025-05-08"},{"$f":"G9+3","v":"2025-05-11"},{"$f":"H9+5","v":"2025-05-16"}]
["*","WAN HAI 331",null,"011S",{"$f":"VLOOKUP(B10,#REF!,2,FALSE)","v":{"$error":"#REF!"}},"2025-05-09",{"$f":"F10+3","v":"2025-05-12"},"2025-05-15",{"$f":"H10+4","v":"2025-05-19"}]
[null,"YM IMMENSE",null,"392S",{"$f":"VLOOKUP(B11,#REF!,2,FALSE)","v":{"$error":"#REF!"}},"2025-05-14",{"$f":"F11+1","v":"2025-05-15"},{"$f":"G11+3","v":"2025-05-18"},{"$f":"H11+5","v":"2025-05-23"}]
["*","ACX PEARL",null,"274S",{"$f":"VLOOKUP(B12,#REF!,2,FALSE)","v":{"$error":"#REF!"}},"2025-05-16","2025-05-19","2025-05-22",{"$f":"H12+4","v":"2025-05-26"}]
[null,"HORAI BRIDGE",null,"211S",{"$f":"VLOOKUP(B13,#REF!,2,FALSE)","v":{"$error":"#REF!"}},"2025-05-21",{"$f":"F13+1","v":"2025-05-22"},{"$f":"G13+3","v":"2025-05-25"},{"$f":"H13+5","v":"2025-05-30"}]
["*","BRIGHT SAKURA",null,"004S",{"$f":"VLOOKUP(B14,#REF!,2,FALSE)","v":{"$error":"#REF!"}},"2025-05-23",{"$f":"F14+3","v":"2025-05-26"},{"$f":"G14+3","v":"2025-05-29"},{"$f":"H14+4","v":"2025-06-02"}]
[null,"大阪CFS CUT日は神戸の１営業日前となります。(＝ETDの３営業日前）"]
[null,"*SP188リチウムイオンバッテリー受付本船です。"]
[]
[]
[null,null,null,null,null,null,null,null,null,null,null,null,null,null,null,null,"搬入先倉庫 (※)"]
[null,null,null,null,null,null,null,null,null,null,null,null,null,null,null,null,"CFS CUT"]
[]
[null,null,null,null,null,null,null,null,null,null,null,null,null,null,null,null,"DAIUN (OSA)"]
["＊＊＊subject to change with or without notice＊＊＊",null,null,null,null,null,null,null,null,null,null,null,null,null,null,null,"2022/07/06 (水)"]
["　　　　　　　　※　Bookingの最終受付は基本的に　CFS CUT前日の午前中までとさせて頂きます。ご協力の程、宜しくお願い致します。"]
[null,null,null,null,null,null,null,null,null,null,null,null,null,null,null,null,"DAIUN (OSA)"]
[null,"BOOKING/SCHEDULE のお問合せ先",null,null,null,"本船基本スケジュール",null,null,null,null,null,null,null,null,null,null,"2022/07/08 (金)"]
[null,"㈱大運　国際物流課　（担当:村井）",null,null,null,"大阪CUT","神戸CUT","神戸出港","香港着"]
[null,"TEL:06-6120-2027",null,null,null,"水曜","木曜","日曜","木曜",null,null,null,null,null,null,null,"DAIUN (OSA)"]
[null,"FAX:06-6120-2029",null,null,null,"金曜","月曜","水曜","土曜",null,null,null,null,null,null,null,"2022/07/13 (水)"]
[]
[null,"下記のURLでもスケジュールをご覧頂けます。他の積み地・仕向け地もお問合せ下さい。",null,null,null,null,null,null,null,null,null,null,null,null,null,null,"DAIUN (OSA)"]
["http://www.daiunex.co.jp/importing/sch.html",null,null,null,null,null,null,null,null,null,null,null,null,null,null,null,"2022/07/14 (木)"]
[]
[null,null,null,null,null,null,null,null,null,null,null,null,null,null,null,null,"DAIUN (OSA)"]
[null,null,null,null,null,null,null,null,null,null,null,null,null,null,null,null,"2022/07/20 (水)"]
[]
[null,null,null,null,null,null,null,null,null,null,null,null,null,null,null,null,"DAIUN (OSA)"]
[null,null,null,null,null,null,null,null,null,null,null,null,null,null,null,null,"2022/07/22 (金)"]
[]
[null,null,null,null,null,null,null,null,null,null,null,null,null,null,null,null,"DAIUN (OSA)"]
[null,null,null,null,null,null,null,null,null,null,null,null,null,null,null,null,"2022/07/27 (水)"]

{"sheet":"PUSAN(PANSTAR)","index":7,"n_rows":41,"n_cols":8,"rows_kept":41,"cut":false,"hidden":false,"merged":[[40,0,40,7],[27,0,27,7],[28,0,28,7],[29,1,29,7],[31,1,31,4],[39,1,39,9],[10,1,10,2],[9,1,9,2],[2,1,2,7],[4,1,4,7],[5,5,5,6],[7,1,8,2],[7,3,8,3],[7,4,8,4],[16,1,16,2],[17,1,17,2],[18,1,18,2],[11,1,11,2],[12,1,12,2],[13,1,13,2],[14,1,14,2],[15,1,15,2]]}
[]
[]
[]
[]
[]
[null,null,null,null,null,{"$f":"Shanghai!I5","v":"2025-04-30"},null,"更新"]
[]
[null,"VESSEL",null,"VOY","CALL","CFS CUT","ETD","ETA"]
[null,null,null,null,null,"OSAKA","OSAKA","BUSAN"]
[null,"PANSTAR MIRACLE",null,"5055W",{"$f":"VLOOKUP(B10,#REF!,2,FALSE)","v":{"$error":"#REF!"}},"2025-05-08",{"$f":"F10+1","v":"2025-05-09"},{"$f":"G10+1","v":"2025-05-10"}]
[null,"PANSTAR MIRACLE",null,"5056W",{"$error":"#REF!"},"2025-05-09","2025-05-12",{"$f":"G11+1","v":"2025-05-13"}]
[null,"PANSTAR MIRACLE",null,"5057W",{"$error":"#REF!"},"2025-05-13",{"$f":"F12+1","v":"2025-05-14"},"2025-05-15"]
[null,"PANSTAR MIRACLE",null,"5058W",{"$error":"#REF!"},"2025-05-15",{"$f":"F13+1","v":"2025-05-16"},"2025-05-17"]
[null,"PANSTAR MIRACLE",null,"5059W",{"$error":"#REF!"},"2025-05-16",{"$f":"F14+3","v":"2025-05-19"},"2025-05-20"]
[null,"PANSTAR MIRACLE",null,"5060W",{"$f":"VLOOKUP(B15,#REF!,2,FALSE)","v":{"$error":"#REF!"}},"2025-05-20",{"$f":"F15+1","v":"2025-05-21"},"2025-05-22"]
[null,"PANSTAR MIRACLE",null,"5061W",{"$error":"#REF!"},"2025-05-22",{"$f":"F16+1","v":"2025-05-23"},{"$f":"G16+1","v":"2025-05-24"}]
[null,"PANSTAR MIRACLE",null,"5062W",{"$error":"#REF!"},"2025-05-23",{"$f":"F17+3","v":"2025-05-26"},"2025-05-27"]
[null,"PANSTAR MIRACLE",null,"5063W",{"$f":"VLOOKUP(B18,#REF!,2,FALSE)","v":{"$error":"#REF!"}},"2025-05-27",{"$f":"F18+1","v":"2025-05-28"},"2025-05-29"]
[null,"PANSTAR MIRACLE",null,"5064W",{"$error":"#REF!"},"2025-05-29",{"$f":"F19+1","v":"2025-05-30"},{"$f":"G19+1","v":"2025-05-31"}]
[]
[]
[]
[]
[]
[]
[null,"※ バンニング場所など変更することがございます。"]
[]
["＊＊＊subject to change with or without notice＊＊＊"]
["※　Bookingの最終受付は基本的に　CFS CUT日の午前中までとさせて頂きます。ご協力の程、宜しくお願い致します。"]
[]
[null,"BOOKING/SCHEDULE のお問合せ先"]
[null,"㈱大運　国際物流課　（担当:皆川）"]
[null,"TEL:06-6120-2027　FAX:06-6120-2029"]
[null,null,null,null,null,"本船基本スケジュール"]
[null,null,null,null,null,"CUT","大阪出港","釜山着"]
[null,null,null,null,null,"火曜","水曜","木曜"]
[null,null,null,null,null,"木曜","金曜","土曜"]
[null,null,null,null,null,"金曜","月曜","火曜"]
[]
[null,"下記のURLでもスケジュールをご覧頂けます。他の積み地・仕向け地もお問合せ下さい。"]
["http://www.daiunex.co.jp/importing/sch.html"]

{"sheet":"PUSAN(信永)","index":8,"n_rows":33,"n_cols":8,"rows_kept":33,"cut":false,"hidden":false,"merged":[[10,1,10,2],[11,1,11,2],[12,1,12,2],[2,1,2,7],[4,1,4,7],[5,5,5,6],[7,1,8,2],[7,3,8,3],[7,4,8,4],[9,1,9,2],[9,5,9,7],[32,0,32,7],[21,0,21,7],[22,0,22,7],[31,1,31,9],[23,1,23,7],[25,1,25,4]]}
[]
[]
[]
[]
[]
[null,null,null,null,null,{"$f":"Shanghai!I5","v":"2025-04-30"},null,"更新"]
[]
[null,"VESSEL",null,"VOY","CALL","CFS CUT","ETD","ETA"]
[null,null,null,null,null,"OSAKA","OSAKA","BUSAN"]
[null,"SUNWIN",null,"2519W",{"$f":"VLOOKUP(B10,#REF!,2,FALSE)","v":{"$error":"#REF!"}},"NO SERVICE"]
[null,"SUNWIN",null,"2520W",{"$f":"VLOOKUP(B11,#REF!,2,FALSE)","v":{"$error":"#REF!"}},"2025-05-14",{"$f":"F11+2","v":"2025-05-16"},"2025-05-18"]
[null,"SUNWIN",null,"2521W",{"$f":"VLOOKUP(B12,#REF!,2,FALSE)","v":{"$error":"#REF!"}},"2025-05-21","2025-05-23","2025-05-25"]
[null,"SUNWIN",null,"2522W",{"$f":"VLOOKUP(B13,#REF!,2,FALSE)","v":{"$error":"#REF!"}},"2025-05-28","2025-05-30","2025-06-01"]
[]
[]
[]
[]
[]
[]
[null,"※ バンニング場所など変更することがございます。"]
[]
["＊＊＊subject to change with or without notice＊＊＊"]
["※　Bookingの最終受付は基本的に　CFS CUT日の午前中までとさせて頂きます。ご協力の程、宜しくお願い致します。"]
[]
[null,"BOOKING/SCHEDULE のお問合せ先"]
[null,"㈱大運　国際物流課　（担当：金森）"]
[null,"TEL:06-6120-2027"]
[null,"FAX:06-6120-2029"]
[null,null,null,null,null,"本船基本スケジュール"]
[null,null,null,null,null,"CUT","大阪/神戸出港","釜山着"]
[null,null,null,null,null,"水曜","金曜","日曜"]
[null,"下記のURLでもスケジュールをご覧頂けます。他の積み地・仕向け地もお問合せ下さい。"]
["http://www.daiunex.co.jp/importing/sch.html"]

{"sheet":"Bangkok","index":9,"n_rows":33,"n_cols":18,"rows_kept":33,"cut":false,"hidden":false,"merged":[[14,17,14,18],[14,1,14,7],[9,1,9,2],[10,1,10,2],[11,1,11,2],[12,1,12,2],[13,1,13,2],[32,0,32,7],[22,0,22,7],[23,0,23,7],[30,1,30,4],[31,1,31,7],[2,1,2,7],[4,1,4,7],[5,5,5,6],[7,1,8,2],[7,3,8,3],[7,4,8,4]]}
[]
[]
[]
[]
[]
[null,null,null,null,null,{"$f":"Shanghai!I5","v":"2025-04-30"},null,"更新"]
[]
[null,"VESSEL",null,"VOY","CARRIER","CFS CUT","ETD","ETA"]
[null,null,null,null,null,"OSAKA/KOBE","OSAKA/KOBE","BANGKOK"]
[null,"YM IMPROVEMENT",null,"259S","YML","2025-05-01",{"$f":"F10+3","v":"2025-05-04"},{"$f":"G10+10","v":"2025-05-14"}]
[null,"YM INCEPTION",null,"232S","YML","2025-05-08",{"$f":"F11+3","v":"2025-05-11"},"2025-05-21"]
[null,"YM IMMENSE",null,"392S","YML","2025-05-15",{"$f":"F12+3","v":"2025-05-18"},"2025-05-28"]
[null,"HORAI BRIDGE",null,"211S","YML","2025-05-22",{"$f":"F13+3","v":"2025-05-25"},"2025-06-04"]
[null,"YM IMPROVEMENT",null,"261S","YML","2025-05-29",{"$f":"F14+3","v":"2025-06-01"},"2025-06-11"]
[null,null,null,null,null,null,null,null,null,null,null,null,null,null,null,null,"#","本船変更"]
[]
[]
[]
[]
[]
[]
[]
["＊＊＊subject to change with or without notice＊＊＊"]
["※　Bookingの最終受付は基本的に　CFS CUT日の午前中までとさせて頂きます。ご協力の程、宜しくお願い致します。"]
[]
[]
[null,"BOOKING/SCHEDULE のお問合せ先",null,null,null,"本船基本スケジュール"]
[null,"㈱大運　国際物流課　（担当：福島）",null,null,null,"CUT","大阪出港","BANGKOK着"]
[null,"TEL:06-6120-2027",null,null,null,"木曜","日曜","翌々水曜"]
[null,"FAX:06-6120-2029"]
[]
[null,"下記のURLでもスケジュールをご覧頂けます。他の積み地・仕向け地もお問合せ下さい。"]
["http://www.daiunex.co.jp/importing/sch.html"]

{"sheet":"Singapore","index":10,"n_rows":37,"n_cols":14,"rows_kept":37,"cut":false,"hidden":false,"merged":[[2,1,2,8],[4,1,4,8],[5,4,5,7],[7,1,8,2],[35,1,35,8],[27,0,27,8],[9,1,9,2],[9,10,9,11],[36,0,36,8],[31,1,31,3],[28,0,28,8],[34,1,34,4],[10,1,10,2],[13,1,13,2],[16,1,16,2],[10,10,10,11],[11,1,11,2],[11,10,11,11],[12,1,12,2],[12,10,12,11],[16,10,16,11],[13,10,13,11],[14,1,14,2],[14,10,14,11],[15,1,15,2],[15,10,15,11]]}
[]
[]
[]
[]
[]
[null,null,null,null,{"$f":"Shanghai!I5","v":"2025-04-30"},null,null,null,"更新"]
[]
[null,"VESSEL",null,"VOY","CALL","CFS CUT","CFS CUT","ETD","ETA"]
[null,null,null,null,null,"OSAKA","KOBE","KOBE","SINGAPORE",null,null,null,null,"060S"]
[null,"PANAY",null,"0IZJXS1NC",{"$f":"VLOOKUP(B10,#REF!,2,FALSE)","v":{"$error":"#REF!"}},"2025-05-02","2025-05-07","2025-05-09",{"$f":"H10+7","v":"2025-05-16"},null,"NAVIOS VERANO"]
[null,"SPIL KARTINI",null,"004S",{"$f":"VLOOKUP(B11,#REF!,2,FALSE)","v":{"$error":"#REF!"}},"2025-05-09",{"$f":"F11+3","v":"2025-05-12"},{"$f":"F11+5","v":"2025-05-14"},"2025-05-21",null,"NAVIOS VERANO"]
[null,"BALTIC NORTH",null,"0IZJZS1NC",{"$f":"VLOOKUP(B12,#REF!,2,FALSE)","v":{"$error":"#REF!"}},"2025-05-13",{"$f":"F12+1","v":"2025-05-14"},{"$f":"F12+3","v":"2025-05-16"},"2025-05-23",null,"NAVIOS VERANO"]
[null,"GIALOVA",null,"031S",{"$f":"VLOOKUP(B13,#REF!,2,FALSE)","v":{"$error":"#REF!"}},"2025-05-16",{"$f":"F13+3","v":"2025-05-19"},{"$f":"F13+5","v":"2025-05-21"},"2025-05-28",null,"NAVIOS VERANO"]
[null,"ALS FLORA",null,"0IZK1S1NC",{"$f":"VLOOKUP(B14,#REF!,2,FALSE)","v":{"$error":"#REF!"}},"2025-05-20",{"$f":"F14+1","v":"2025-05-21"},{"$f":"F14+3","v":"2025-05-23"},{"$f":"H14+7","v":"2025-05-30"},null,"NAVIOS VERANO"]
["*","GIALOVA",null,"031S",{"$f":"VLOOKUP(B15,#REF!,2,FALSE)","v":{"$error":"#REF!"}},"2025-05-23",{"$f":"F15+3","v":"2025-05-26"},{"$f":"F15+5","v":"2025-05-28"},"2025-06-04",null,"NAVIOS VERANO"]
[null,"MATOYA BAY",null,"0IZK3S1NC",{"$f":"VLOOKUP(B16,#REF!,2,FALSE)","v":{"$error":"#REF!"}},"2025-05-27",{"$f":"F16+1","v":"2025-05-28"},{"$f":"F16+3","v":"2025-05-30"},{"$f":"H16+7","v":"2025-06-06"},null,"NAVIOS VERANO"]
["*","NAGOYA TOWER",null,"018S",{"$f":"VLOOKUP(B17,#REF!,2,FALSE)","v":{"$error":"#REF!"}},"2025-05-30",{"$f":"F17+3","v":"2025-06-02"},{"$f":"F17+5","v":"2025-06-04"},"2025-06-11",null,"NAVIOS VERANO"]
[null,"*本船名が変更になりました。"]
[null,"＞＞＞大阪CFS CUT日は神戸の１営業日前となります。(＝ETDの３営業日前）＜＜＜"]
[null,null,null,null,null,null,null,null,null,null,"本船スケジュールおよび現地到着ETAは諸事情・諸条件により変更となる場合がございます"]
[]
[null,null,null,null,null,null,null,null,null,null,"*船名変更"]
[]
[]
[]
[]
[]
["＊＊＊subject to change with or without notice＊＊＊"]
["※　Bookingの最終受付は基本的に　CFS CUT日の午前中までとさせて頂きます。ご協力の程、宜しくお願い致します。"]
[]
[null,"BOOKING/SCHEDULE のお問合せ先",null,null,null,"本船基本スケジュール　"]
[null,"㈱大運　国際物流課　（担当：三方）",null,null,null,"大阪CUT","神戸CUT","神戸出港","SINGAPORE着"]
[null,"TEL:06-6120-2027",null,null,null,"金曜","月曜","水曜","翌週水曜"]
[null,"FAX:06-6120-2029",null,null,null,"月曜","火曜","金曜","翌週金曜"]
[]
[null,"下記のURLでもスケジュールをご覧頂けます。　どうぞご利用下さい｡"]
["http://www.daiunex.co.jp/importing/sch.html"]

{"sheet":"祝日 (2)","index":11,"n_rows":169,"n_cols":4,"rows_kept":169,"cut":false,"hidden":true,"merged":[]}
["2016年\n祝日","2016-01-01",{"$f":"TEXT(WEEKDAY(B1,1),\"aaaa\")","v":"金曜日"},"元旦"]
[null,"2016-01-02",{"$f":"TEXT(WEEKDAY(B2,1),\"aaaa\")","v":"土曜日"},"年末年始"]
[null,"2016-01-03","日曜日","年末年始"]
[null,"2016-01-04","月曜日","年末年始"]
[null,"2016-01-11","月曜日","成人の日"]
[null,"2016-02-11","木曜日","建国記念日"]
[null,"2016-03-21","月曜日","春分の日振替"]
[null,"2016-04-29","金曜日","昭和の日"]
[null,"2016-05-03","火曜日","憲法記念日"]
[null,"2016-05-04","水曜日","みどりの日"]
[null,"2016-05-05","木曜日","こどもの日"]
[null,"2016-07-18","月曜日","海の日"]
[null,"2016-08-11","木曜日","山の日"]
[null,"2016-09-19","月曜日","敬老の日"]
[null,"2016-09-22","木曜日","秋分の日"]
[null,"2016-10-10","月曜日","体育の日"]
[null,"2016-11-03","木曜日","文化の日"]
[null,"2016-11-23","水曜日","勤労感謝の日"]
[null,"2016-12-23","金曜日","天皇誕生日"]
[null,"2016-12-29","木曜日","年末年始"]
[null,"2016-12-30","金曜日","年末年始"]
[null,"2016-12-31","土曜日","年末年始"]
["2017年\n祝日","2017-01-01","日曜日","元旦"]
[null,"2017-01-02","月曜日","年末年始"]
[null,"2017-01-03","火曜日","年末年始"]
[null,"2017-01-04","水曜日","年末年始"]
[null,"2017-01-09","月曜日","成人の日"]
[null,"2017-02-11","土曜日","建国記念の日"]
[null,"2017-03-20","月曜日","春分の日"]
[null,"2017-04-29","土曜日","昭和の日"]
[null,"2017-05-03","水曜日","憲法記念日"]
[null,"2017-05-04","木曜日","みどりの日"]
[null,"2017-05-05","金曜日","こどもの日"]
[null,"2017-07-17","月曜日","海の日"]
[null,"2017-08-11","金曜日","山の日"]
[null,"2017-09-18","月曜日","敬老の日"]
[null,"2017-09-23","土曜日","秋分の日"]
[null,"2017-10-09","月曜日","体育の日"]
[null,"2017-11-03","金曜日","文化の日"]
[null,"2017-11-23","木曜日","勤労感謝の日"]
[null,"2017-12-23","土曜日","天皇誕生日"]
[null,"2017-12-29","金曜日"]
[null,"2017-12-30","土曜日"]
[null,"2017-12-31","日曜日"]
["2018年祝日","2018-01-01","月曜日"]
[null,"2018-01-02","火曜日"]
[null,"2018-01-03","水曜日"]
[null,"2018-01-04","木曜日"]
[null,"2018-01-08","月曜日"]
[null,"2018-02-11","日曜日"]
[null,"2018-02-12","月曜日"]
[null,"2018-03-21","水曜日"]
[null,"2018-04-29","日曜日"]
[null,"2018-04-30","月曜日"]
[null,"2018-05-03","木曜日"]
[null,"2018-05-04","金曜日"]
[null,"2018-05-05","土曜日"]
[null,"2018-07-16","月曜日"]
[null,"2018-08-11","土曜日"]
[null,"2018-09-17","月曜日"]
[null,"2018-09-23","日曜日"]
[null,"2018-09-24","月曜日"]
[null,"2018-10-08","月曜日"]
[null,"2018-11-03","土曜日"]
[null,"2018-11-23","金曜日"]
[null,"2018-12-23",{"$f":"TEXT(WEEKDAY(B66,1),\"aaaa\")","v":"日曜日"}]
[null,"2018-12-24",{"$f":"TEXT(WEEKDAY(B67,1),\"aaaa\")","v":"月曜日"}]
[null,"2018-12-29",{"$f":"TEXT(WEEKDAY(B68,1),\"aaaa\")","v":"土曜日"},"年末年始"]
[null,"2018-12-30",{"$f":"TEXT(WEEKDAY(B69,1),\"aaaa\")","v":"日曜日"},"年末年始"]
[null,"2018-12-31",{"$f":"TEXT(WEEKDAY(B70,1),\"aaaa\")","v":"月曜日"},"年末年始"]
["2019年祝日","2019-01-01",{"$f":"TEXT(WEEKDAY(B71,1),\"aaaa\")","v":"火曜日"},"年末年始"]
[null,"2019-01-02","水曜日","年末年始"]
[null,"2019-01-03","木曜日","年末年始"]
[null,"2019-01-04","金曜日","年末年始"]
[null,"2019-01-05","土曜日","年末年始"]
[null,"2019-01-06","日曜日","年末年始"]
[null,"2019-01-14","月曜日","成人の日"]
[null,"2019-02-11","月曜日","建国記念の日"]
[null,"2019-03-21","木曜日","春分の日"]
[null,"2019-04-29","月曜日","昭和の日"]
[null,"2019-04-30","火曜日","振替"]
[null,"2019-05-01","水曜日","即位の日"]
[null,"2019-05-02","木曜日","振替"]
[null,"2019-05-03","金曜日","憲法記念日"]
[null,"2019-05-04","土曜日","みどりの日"]
[null,"2019-05-05","日曜日","こどもの日"]
[null,"2019-05-06","月曜日","振替"]
[null,"2019-07-15","月曜日","海の日"]
[null,"2019-08-11","日曜日","山の日"]
[null,"2019-08-12","月曜日","振替"]
[null,"2019-09-16","月曜日","敬老の日"]
[null,"2019-09-23","月曜日","秋分の日"]
[null,"2019-10-14","月曜日","体育の日"]
[null,"2019-10-22","火曜日","即位礼正殿の儀"]
[null,"2019-11-03","日曜日","文化の日"]
[null,"2019-11-04","月曜日","振替"]
[null,"2019-11-23","土曜日","勤労感謝の日"]
["2020年祝日","2020-01-01","水曜日"]
[null,"2020-01-13","月曜日"]
[null,"2020-02-11","火曜日"]
[null,"2020-02-23","日曜日"]
[null,"2020-02-24","月曜日"]
[null,"2020-03-20","金曜日"]
[null,"2020-04-29","水曜日"]
[null,"2020-05-03","日曜日"]
[null,"2020-05-04","月曜日"]
[null,"2020-05-05","火曜日"]
[null,"2020-05-06","水曜日"]
[null,"2020-07-23","木曜日"]
[null,"2020-07-24","金曜日"]
[null,"2020-08-10","月曜日"]
[null,"2020-09-21","月曜日"]
[null,"2020-09-22","火曜日"]
[null,null,"土曜日"]
[null,"2020-11-03","火曜日"]
[null,"2020-11-23","月曜日"]
["2021年祝日","2021-01-01","金曜日","元日"]
[null,"2021-01-11","月曜日","成人の日"]
[null,"2021-02-11","木曜日","建国記念の日"]
[null,"2021-02-23","火曜日","天皇誕生日"]
[null,"2021-03-20","土曜日","春分の日"]
[null,"2021-04-29","木曜日","昭和の日"]
[null,"2021-05-03","月曜日","憲法記念日"]
[null,"2021-05-04","火曜日","みどりの日"]
[null,"2021-05-05","水曜日","こどもの日"]
[null,"2021-07-22","木曜日","海の日"]
[null,"2021-07-23",{"$f":"TEXT(WEEKDAY(B127,1),\"aaaa\")","v":"金曜日"},"スポーツの日"]
[null,"2021-08-08","日曜日","山の日"]
[null,"2021-08-09","月曜日","振替"]
[null,"2021-09-20","月曜日","敬老の日"]
[null,"2021-09-23","木曜日","秋分の日"]
[null,"2021-11-03","水曜日","文化の日"]
[null,"2021-11-23","火曜日","勤労感謝の日"]
["2022年祝日"]
[null,"2022-01-01",{"$f":"TEXT(WEEKDAY(B135,1),\"aaaa\")","v":"土曜日"},"元日"]
[null,"2022-01-10",{"$f":"TEXT(WEEKDAY(B136,1),\"aaaa\")","v":"月曜日"},"成人の日"]
[null,"2022-02-11","金曜日","建国記念の日"]
[null,"2022-02-23","水曜日","天皇誕生日"]
[null,"2022-03-21","月曜日","春分の日"]
[null,"2022-04-29","金曜日","昭和の日"]
[null,"2022-05-03","火曜日","憲法記念日"]
[null,"2022-05-04","水曜日","みどりの日"]
[null,"2022-05-05","木曜日","こどもの日"]
[null,"2022-07-18","月曜日","海の日"]
[null,"2022-08-11","木曜日","山の日"]
[null,"2022-09-19","月曜日","敬老の日"]
[null,"2022-09-23","金曜日","秋分の日"]
[null,"2022-10-10","月曜日","スポーツの日（体育の日改め）"]
[null,"2022-11-03","木曜日","文化の日"]
[null,"2022-11-23","水曜日","勤労感謝の日"]
[]
[]
[null,"2023-01-01","日曜日","元日"]
[null,"2023-01-02","月曜日","元日 (休日)"]
[null,"2023-01-09","月曜日","成人の日"]
[null,"2023-02-11","土曜日","建国記念の日"]
[null,"2023-02-23","木曜日","天皇誕生日"]
[null,"2023-03-21","火曜日","春分の日"]
[null,"2023-04-29","土曜日","昭和の日"]
[null,"2023-05-03","水曜日","憲法記念日"]
[null,"2023-05-04","木曜日","みどりの日"]
[null,"2023-05-05","金曜日","こどもの日"]
[null,"2023-07-17","月曜日","海の日"]
[null,"2023-08-11","金曜日","山の日"]
[null,"2023-09-18","月曜日","敬老の日"]
[null,"2023-09-23","土曜日","秋分の日"]
[null,"2023-10-09","月曜日","スポーツの日"]
[null,"2023-11-03","金曜日","文化の日"]
[null,"2023-11-23","木曜日","勤労感謝の日"]

{"sheet":"CALL SIGN","index":12,"n_rows":131,"n_cols":4,"rows_kept":131,"cut":false,"hidden":true,"merged":[]}
["CARRIER","SCAC","VESSEL","CALL SIGN"]
["MOL","MOLU","ALM WODONGA","5BGY4"]
["MCC","MCPU","ALS VENUS","9V5905"]
["MCC","MCPU","ALS VESTA","9V5904"]
["KLINE","KKLU","ANDERSON BRIDGE","3FTU2"]
["MCC","MCPU","ANNETTE-S.","D6FY5"]
["NYK","NYKS","APOLLON D","A8QD6"]
["NYK","NYKS","ARTEMIS","3ERS4"]
["KLINE","KKLU","BALTIMORE BRIDGE","3ETY2"]
["ONE","ONYE","BANGKOK BRIDGE","3FTZ8"]
["MAERSK","MAEU","BEETHOVEN","D5CE3"]
["NAMSUNG","NSSL","BOHAI STAR","DSFL4"]
["APL","APLU","BOMAR RENAISSANCE","A8JU3"]
["APL","APLU","BOTANY BAY","A8JM5"]
["CMA","11DX","BOX EXPRESS","D5GM6"]
["KLINE","KKLU","BUDAPEST BRIDGE","VRIZ5"]
["CMA",null,"CAPE FELTON","V7OX5"]
["CMA","11DX","CHINDWIN STAR","D5GW8"]
["SJJ","11WJ","CHUN JIN","BIMT"]
["CMA","11DX","CNC NEPTUNE","9V6193"]
["APL","APLU","CORDELIA","A8TL8"]
["ONE",null,"CSL MANHATTAN","D5IC7"]
["DONGJIN",null,"DONGJIN FORTUNE","D7UJ"]
["CMA","11DX","EXPRESS BLACK SEA","9HA2713"]
["APL","APLU","FESCO DALNEGORSK","5BBQ5"]
["WHL","22AA","FRED","5BEX4"]
["WHL","22AA","GH MISTRAL","V7NL3"]
["HAPAG-LLOYD","HLCU","GLASGOW EXPRESS","DDSC2"]
["SJJ","11WJ","GLORY FORTUNE","VRHA9"]
["SJJ","11WJ","GLORY SHANGHAI","VROS4"]
["SJJ","11WJ","GLORY TIANJIN","VROR4"]
["MCC","MCPU","GUAYAQUIL BRIDGE","VRGI8"]
["APL","APLU","GUENTHER SCHULTE","VRGK8"]
["HAPAG-LLOYD","HLCU","HAMMONIA SAPPHIRE","D5GT6"]
["MAERSK","MAEU","HARALD S","V2AD6"]
["HASCO","HASL","HEUNG-A JAKARTA","3ERD6"]
["SINOKOR","SNKO","HEUNG-A SINGAPORE","3REC6"]
["KLINE","KKLU","HORAI BRIDGE","3FOB4"]
["MCC","MCPU","HS ONORE","A8JC9"]
["HAPAG-LLOYD","HLCU","HS SHACKLETON","9HA3403"]
["IAL",null,"INTERASIA PROGRESS","9V9662"]
["KLINE","KKLU","JAKARTA BRIDGE","3FRD3"]
["SJJ","11WJ","JJ NAGOYA","VRAL7"]
["SJJ","11WJ","JJ SKY","VRJA6"]
["SJJ","11WJ","JJ TOKYO","VRAL5"]
["SINOKOR","SNKO","KALAMAZOO","9V5023"]
["MCC","MCPU","KATRIN-S.","V2GN2"]
["PAN OCEAN","POBU","KHARIS JUPITER","D7NT"]
["CK","CKLU","KITI BHUM","S6LW"]
["CMA","11DX","KUO CHANG","VREM2"]
["CMA","11DX","KUO CHIA","BNBE"]
["CMA","11DX","KUO LIN","C6DB5"]
["CMA","11DX","KUO LONG","3FCT8"]
["TSL","13DF","LANTAU BEE","V2DR2"]
["TSL","13DF","LANTAU BREEZE","V2DI6"]
["TSL","13DF","LANTAU BRIDE","V2DQ9"]
["SINOKOR","SNKO","LILA BHUM","S6LX"]
["KLINE","KKLU","LOS ANDES BRIDGE","3EWK3"]
["TSL","13DF","MARCARRIER","V2CW8"]
["CMA","11DX","MARCLIFF","V2CH5"]
["SJJ","11WJ","MAX PARTNER","9HA4155"]
["HAPAG-LLOYD","HLCU","MEMPHIS","A8OU4"]
["SJJ","11WJ","MILD CHORUS","VRMZ8"]
["SJJ","11WJ","MILD JAZZ","VRNW8"]
["CCL","13YG","MILD SONATA","VRNF6"]
["SJJ","11WJ","MILD TEMPO","VROE5"]
["SJJ","11WJ","MILD TUNE","VROS2"]
["SJJ","11WJ","MILD WALTZ","VRNL7"]
["MOL","MOLU","MOL EARNEST","3EMD3"]
["MOL","MOLU","MOL EMERALD","VRFB8"]
["MOL","MOLU","MOL ENDOWMENT","3EMV4"]
["MOL","MOLU","MOL GATEWAY","CQHN"]
["MOL","MOLU","MOL GLOBE","VRIH6"]
["MOL","MOLU","MOL GRANDEUR","VRIQ8"]
["IAL",null,"MUNK STRAIT","D5IB5"]
["APL","APLU","NATAL","9LY2559"]
[null,null,"NAVIOS SUMMER","V7JK8"]
["APL","APLU","NEWARK","A8KY8"]
["APL","APLU","NIKOS P","V7CG5"]
["KLINE","KKLU","NORDCHEETAH","9HA3758"]
["KLINE","KKLU","NORDLILY","9HA4207"]
["EMC","EGLV","NORDLION","5BBE4"]
["CMA","11DX","NORDOCELOT","9HA3733"]
["CMA","11DX","NORDPANTHER","5BDV4"]
["CMA","11DX","NORDTIGER","5BCH4"]
["KLINE","KKLU","NORDVIOLET","9HA4103"]
["ONE",null,"NYK DEMETER","3ENV5"]
["ONE","ONYE","NYK DIANA","3EOS4"]
["NYK","NYKS","NYK FUJI","9V8738"]
["NYK","NYKS","NYK FUSHIMI","9V8741"]
[null,null,"OSAKA VOYAGER","D7AA"]
["PAN OCEAN","POBU","PACIFIC DALIAN","D5RU3"]
["SJJ","11WJ","PACIFIC NINGBO","D5RF9"]
["NAMSUNG","NSSL","PEGASUS PRIME","DSQG5"]
["KLINE","KKLU","PENANG BRIDGE","3FZD5"]
["MCC","MCPU","PONTRESINA","A8OK4"]
["PAN OCEAN","POBU","POS YOKOHAMA","DSOU4"]
["SJJ","11WJ","PROSRICH","J8TH8"]
["SJJ","11WJ","QIU JIN","BIMI"]
["KLINE","KKLU","QUEZON BRIDGE","3FOW"]
["ONE","ONYE","SEASPAN EMERALD","VRFB8"]
["SITC","12PD","SITC MOJI","VRKS5"]
["SITC","12PD","SITC NAGOYA","3EGD6"]
["SITC","12PD","SITC TOYOHASHI","VRSB9"]
["SITC","12PD","SITC XIAMEN","3ELU"]
["SITC","12PD","SITC YOKKAICHI","VRLI6"]
[null,null,"TBA","TBA"]
["SJJ","11WJ","TRIUMPH","C6WN2"]
["MCC","MCPU","UTE OLTMANN","DGZO"]
["MCC","MCPU","VICTOR","D5PT8"]
["CMA","CMDU","VIRA BHUM","HSGG2"]
["WHL","22AA","WAN HAI 206","S6EN8"]
["WHL","22AA","WAN HAI 231","S6EN9"]
["WHL","22AA","WAN HAI 261","9VHZ8"]
["WHL","22AA","WAN HAI 263","9VDB3"]
["WHL","22AA","WAN HAI 265","9VDB4"]
["WHL","22AA","WAN HAI 271","9V7584"]
["WHL","22AA","WAN HAI 272","9V7585"]
["WHL","22AA","WAN HAI 273","9V7586"]
["WHL","22AA","WAN HAI 302","9VDB8"]
["WHL","22AA","WAN HAI 308","CQIZ"]
["WHL","22AA","WAN HAI 313","S6AS9"]
["MCC","MCPU","WEHR TRAVE","V7DR5"]
["YML","YMLU","YM IMAGE","A8HX3"]
["YML","YMLU","YM IMPROVEMENT","A8KS9"]
["YML","YMLU","YM INAUGURATION","BLHE"]
["YML","YMLU","YM INTERACTION","A8KS7"]
[null,null,"CAPE MORETON","VRGG6"]
["CMA","CMDU","MOUNT BUTLER","VRPJ9"]
[null,null,"BOMAR FULGENT","D5LH5"]
["CK",null,"ELBMASTER","V2DW2"]

{"sheet":"祝日","index":13,"n_rows":117,"n_cols":4,"rows_kept":117,"cut":false,"hidden":true,"merged":[]}
["2016年\n祝日","2016-01-01",{"$f":"TEXT(WEEKDAY(B1,1),\"aaaa\")","v":"金曜日"},"元旦"]
[null,"2016-01-02",{"$f":"TEXT(WEEKDAY(B2,1),\"aaaa\")","v":"土曜日"},"年末年始"]
[null,"2016-01-03","日曜日","年末年始"]
[null,"2016-01-04","月曜日","年末年始"]
[null,"2016-01-11","月曜日","成人の日"]
[null,"2016-02-11","木曜日","建国記念日"]
[null,"2016-03-21","月曜日","春分の日振替"]
[null,"2016-04-29","金曜日","昭和の日"]
[null,"2016-05-03","火曜日","憲法記念日"]
[null,"2016-05-04","水曜日","みどりの日"]
[null,"2016-05-05","木曜日","こどもの日"]
[null,"2016-07-18","月曜日","海の日"]
[null,"2016-08-11","木曜日","山の日"]
[null,"2016-09-19","月曜日","敬老の日"]
[null,"2016-09-22","木曜日","秋分の日"]
[null,"2016-10-10","月曜日","体育の日"]
[null,"2016-11-03","木曜日","文化の日"]
[null,"2016-11-23","水曜日","勤労感謝の日"]
[null,"2016-12-23","金曜日","天皇誕生日"]
[null,"2016-12-29","木曜日","年末年始"]
[null,"2016-12-30","金曜日","年末年始"]
[null,"2016-12-31","土曜日","年末年始"]
["2017年\n祝日","2017-01-01","日曜日","元旦"]
[null,"2017-01-02","月曜日","年末年始"]
[null,"2017-01-03","火曜日","年末年始"]
[null,"2017-01-04","水曜日","年末年始"]
[null,"2017-01-09","月曜日","成人の日"]
[null,"2017-02-11","土曜日","建国記念の日"]
[null,"2017-03-20","月曜日","春分の日"]
[null,"2017-04-29","土曜日","昭和の日"]
[null,"2017-05-03","水曜日","憲法記念日"]
[null,"2017-05-04","木曜日","みどりの日"]
[null,"2017-05-05","金曜日","こどもの日"]
[null,"2017-07-17","月曜日","海の日"]
[null,"2017-08-11","金曜日","山の日"]
[null,"2017-09-18","月曜日","敬老の日"]
[null,"2017-09-23","土曜日","秋分の日"]
[null,"2017-10-09","月曜日","体育の日"]
[null,"2017-11-03","金曜日","文化の日"]
[null,"2017-11-23","木曜日","勤労感謝の日"]
[null,"2017-12-23","土曜日","天皇誕生日"]
[null,"2017-12-29","金曜日"]
[null,"2017-12-30","土曜日"]
[null,"2017-12-31","日曜日"]
["2018年祝日","2018-01-01","月曜日"]
[null,"2018-01-02","火曜日"]
[null,"2018-01-03","水曜日"]
[null,"2018-01-04","木曜日"]
[null,"2018-01-08","月曜日"]
[null,"2018-02-11","日曜日"]
[null,"2018-02-12","月曜日"]
[null,"2018-03-21","水曜日"]
[null,"2018-04-29","日曜日"]
[null,"2018-04-30","月曜日"]
[null,"2018-05-03","木曜日"]
[null,"2018-05-04","金曜日"]
[null,"2018-05-05","土曜日"]
[null,"2018-07-16","月曜日"]
[null,"2018-08-11","土曜日"]
[null,"2018-09-17","月曜日"]
[null,"2018-09-23","日曜日"]
[null,"2018-09-24","月曜日"]
[null,"2018-10-08","月曜日"]
[null,"2018-11-03","土曜日"]
[null,"2018-11-23","金曜日"]
[null,"2018-12-23",{"$f":"TEXT(WEEKDAY(B66,1),\"aaaa\")","v":"日曜日"}]
[null,"2018-12-24",{"$f":"TEXT(WEEKDAY(B67,1),\"aaaa\")","v":"月曜日"}]
[null,"2018-12-29",{"$f":"TEXT(WEEKDAY(B68,1),\"aaaa\")","v":"土曜日"},"年末年始"]
[null,"2018-12-30",{"$f":"TEXT(WEEKDAY(B69,1),\"aaaa\")","v":"日曜日"},"年末年始"]
[null,"2018-12-31",{"$f":"TEXT(WEEKDAY(B70,1),\"aaaa\")","v":"月曜日"},"年末年始"]
["2019年祝日","2019-01-01",{"$f":"TEXT(WEEKDAY(B71,1),\"aaaa\")","v":"火曜日"},"年末年始"]
[null,"2019-01-02","水曜日","年末年始"]
[null,"2019-01-03","木曜日","年末年始"]
[null,"2019-01-04","金曜日","年末年始"]
[null,"2019-01-05","土曜日","年末年始"]
[null,"2019-01-06","日曜日","年末年始"]
[null,"2019-01-14","月曜日","成人の日"]
[null,"2019-02-11",{"$f":"TEXT(WEEKDAY(B78,1),\"aaaa\")","v":"月曜日"},"建国記念の日"]
[null,"2019-03-21","木曜日","春分の日"]
[null,"2019-04-29","月曜日","昭和の日"]
[null,"2019-04-30","火曜日","振替"]
[null,"2019-05-01","水曜日","即位の日"]
[null,"2019-05-02","木曜日","振替"]
[null,"2019-05-03","金曜日","憲法記念日"]
[null,"2019-05-04","土曜日","みどりの日"]
[null,"2019-05-05","日曜日","こどもの日"]
[null,"2019-05-06","月曜日","振替"]
[null,"2019-07-15","月曜日","海の日"]
[null,"2019-08-11","日曜日","山の日"]
[null,"2019-08-12","月曜日","振替"]
[null,"2019-09-16","月曜日","敬老の日"]
[null,"2019-09-23","月曜日","秋分の日"]
[null,"2019-10-14","月曜日","体育の日"]
[null,"2019-10-22","火曜日","即位礼正殿の儀"]
[null,"2019-11-03","日曜日","文化の日"]
[null,"2019-11-04","月曜日","振替"]
[null,"2019-11-23","土曜日","勤労感謝の日"]
["2020年祝日","2020-01-01","水曜日"]
[null,"2020-01-13","月曜日"]
[null,"2020-02-11","火曜日"]
[null,"2020-02-23","日曜日"]
[null,"2020-02-24","月曜日"]
[null,"2020-03-20","金曜日"]
[null,"2020-04-29","水曜日"]
[null,"2020-05-03","日曜日"]
[null,"2020-05-04","月曜日"]
[null,"2020-05-05","火曜日"]
[null,"2020-05-06","水曜日"]
[null,"2020-07-23","木曜日"]
[null,"2020-07-24","金曜日"]
[null,"2020-08-10","月曜日"]
[null,"2020-09-21","月曜日"]
[null,"2020-09-22","火曜日"]
[null,null,"土曜日"]
[null,"2020-11-03","火曜日"]
[null,"2020-11-23","月曜日"]
["2021年祝日"]

{"sheet":"Sheet1","index":14,"n_rows":0,"n_cols":0,"rows_kept":0,"cut":false,"hidden":true,"merged":[]}

{"sheet":"Sheet2","index":15,"n_rows":0,"n_cols":0,"rows_kept":0,"cut":false,"hidden":true,"merged":[]}